BEGIN:VCALENDAR
VERSION:2.0
PRODID:-//Alumbrando Las Naciones - ECPv6.15.20//NONSGML v1.0//EN
CALSCALE:GREGORIAN
METHOD:PUBLISH
X-WR-CALNAME:Alumbrando Las Naciones
X-ORIGINAL-URL:https://alumbrandolasnaciones.com
X-WR-CALDESC:Eventos para Alumbrando Las Naciones
REFRESH-INTERVAL;VALUE=DURATION:PT1H
X-Robots-Tag:noindex
X-PUBLISHED-TTL:PT1H
BEGIN:VTIMEZONE
TZID:UTC
BEGIN:STANDARD
TZOFFSETFROM:+0000
TZOFFSETTO:+0000
TZNAME:UTC
DTSTART:20220101T000000
END:STANDARD
END:VTIMEZONE
BEGIN:VEVENT
DTSTART;TZID=UTC:20230427T080000
DTEND;TZID=UTC:20230427T170000
DTSTAMP:20260423T154116
CREATED:20230426T151541Z
LAST-MODIFIED:20230426T154236Z
UID:22951-1682582400-1682614800@alumbrandolasnaciones.com
SUMMARY:Congreso de Sana Doctrina
DESCRIPTION:Devocional: Alexis Hernandez \nAlabanzas: Pastor Gabriel Rivera \nCoro de Ofrenda: Sociedad de niños \nNotas Importantes\nEstacionamiendo en la parte de atras de la Iglesia. Porfavor no estacional alfrende de las marquesinas de los vecinos. \nReglas del Servicio \nPedimos a los hermanos y amigos que porfavor guarden sus celulares en silencio para que puedan ser parte y gozar del culto y puedan recibir el mensaje de Dios. \n 
URL:https://alumbrandolasnaciones.com/actividades/congreso-de-sana-doctrina/
CATEGORIES:Cultos Congregacionales
ATTACH;FMTTYPE=image/jpeg:https://alumbrandolasnaciones.com/wp-content/uploads/2023/04/alumbrando-las-naciones-bg-copy-1.jpg
ORGANIZER;CN="Pastor Gabriel Rivera":MAILTO:info@alumbrandolasnaciones.com
END:VEVENT
END:VCALENDAR